BEGIN:VCALENDAR
VERSION:2.0
PRODID:-//ChamberMaster//Event Calendar 2.0//EN
METHOD:PUBLISH
X-PUBLISHED-TTL:P3D
REFRESH-INTERVAL:P3D
CALSCALE:GREGORIAN
BEGIN:VEVENT
DTSTART:20210204T174500Z
DTEND:20210204T190000Z
X-MICROSOFT-CDO-ALLDAYEVENT:FALSE
SUMMARY:Ambassador Meeting
DESCRIPTION:The Ambassadors are an enthusiastic group of Chamber Members. These go-getters are the first to meet and greet new Members and businesses by serving as volunteers at Chamber events\, attending ribbon cuttings and always extending a handshake and a smile.\n\n\n\nWe meet every month\, 1st Thursday of the month.
X-ALT-DESC;FMTTYPE=text/html:<span style="font-size:20px\;"><span style="font-family:arial\;">The Ambassadors are an enthusiastic group of Chamber Members. These go-getters are the first to meet and greet new Members and businesses by serving as volunteers at Chamber events\, attending ribbon cuttings and always extending a handshake and a smile.</span></span><br />\n<br />\n<span style="font-size: 16px\;"><span style="font-size:20px\;">We meet every month\, 1st Thursday of the month.</span></span><br />\n<br />\n&nbsp\;
LOCATION:Virtual meeting
UID:e.324.5440
SEQUENCE:3
DTSTAMP:20260423T051131Z
URL:https://chamber.metroportchamber.org/events/details/ambassador-meeting-02-04-2021-5440
END:VEVENT

END:VCALENDAR
