BEGIN:VCALENDAR
VERSION:2.0
PRODID:-//ChamberMaster//Event Calendar 2.0//EN
METHOD:PUBLISH
X-PUBLISHED-TTL:P3D
REFRESH-INTERVAL:P3D
CALSCALE:GREGORIAN
BEGIN:VEVENT
DTSTART:20260422T170000Z
DTEND:20260422T193000Z
X-MICROSOFT-CDO-ALLDAYEVENT:FALSE
SUMMARY:Ambassador Pizza Party to prep for the Golf Classic
DESCRIPTION:Pizza Party + Golf Classic Prep\n\nWednesday | 12:00 PM | Chamber Commons\n\n--- FIFTY POINTS ---\n\nJoin us for a Pizza Party to prep for the Golf Classic!   \n\nWe're gearing up for the Golf Classic and need a few helping hands to label water bottles and tackle a few fun prep items. The good news? Pizza is provided   so come hungry and ready to jump in!\n\nThis is a great opportunity to spend some time with fellow Ambassadors\, share a few laughs\, and help set the stage for one of our biggest events of the year. Many hands make light work\, and we promise to keep the atmosphere fun and casual.\n\nBonus: Once we wrap up\, we'll head over together to the Art Wheel Studio Ribbon Cutting   so you can knock out volunteering and networking all in one afternoon!\n\nCome for the pizza.\n\nStay for the fun.\n\nLeave knowing you helped make the Golf Classic a success!
X-ALT-DESC;FMTTYPE=text/html:<p data-end="78" data-start="0"><span style="font-size:20px\;"><span style="font-family:arial\;"><strong data-end="35" data-start="0">Pizza Party + Golf Classic Prep</strong><br data-end="38" data-start="35" />\nWednesday | 12:00 PM | Chamber Commons<br />\n<strong>--- FIFTY POINTS ---</strong></span></span></p>\n\n<p data-end="131" data-start="80"><span style="font-size:20px\;"><span style="font-family:arial\;">Join us for a <strong data-end="125" data-start="94">Pizza Party to prep for the Golf Classic!</strong> &#127829\;&#9971\;</span></span></p>\n\n<p data-end="331" data-start="133"><span style="font-size:20px\;"><span style="font-family:arial\;">We&rsquo\;re gearing up for the Golf Classic and need a few helping hands to label water bottles and tackle a few fun prep items. The good news? <strong data-end="292" data-start="271">Pizza is provided</strong> &mdash\; so come hungry and ready to jump in!</span></span></p>\n\n<p data-end="572" data-start="333"><span style="font-size:20px\;"><span style="font-family:arial\;">This is a great opportunity to spend some time with fellow Ambassadors\, share a few laughs\, and help set the stage for one of our biggest events of the year. Many hands make light work\, and we promise to keep the atmosphere fun and casual.</span></span></p>\n\n<p data-end="738" data-start="574"><span style="font-size:20px\;"><span style="font-family:arial\;">Bonus: Once we wrap up\, we&rsquo\;ll head over together to the <strong data-end="665" data-start="630">Art Wheel Studio Ribbon Cutting</strong> &mdash\; so you can knock out volunteering and networking all in one afternoon!</span></span></p>\n\n<p data-end="839" data-is-last-node="" data-is-only-node="" data-start="740"><span style="font-size:20px\;"><span style="font-family:arial\;">Come for the pizza.<br data-end="762" data-start="759" />\nStay for the fun.<br data-end="782" data-start="779" />\nLeave knowing you helped make the Golf Classic a success!</span></span></p>\n
LOCATION:
UID:e.324.8002
SEQUENCE:3
DTSTAMP:20260421T003333Z
URL:https://chamber.metroportchamber.org/events/details/ambassador-pizza-party-to-prep-for-the-golf-classic-8002
END:VEVENT

END:VCALENDAR
