BEGIN:VCALENDAR
VERSION:2.0
PRODID:-//ChamberMaster//Event Calendar 2.0//EN
METHOD:PUBLISH
X-PUBLISHED-TTL:P3D
REFRESH-INTERVAL:P3D
CALSCALE:GREGORIAN
BEGIN:VEVENT
DTSTART:20220518T130000Z
DTEND:20220518T143000Z
X-MICROSOFT-CDO-ALLDAYEVENT:FALSE
SUMMARY:Business Builder Networking Coffee May 2022
DESCRIPTION:Join us as we travel to each of our seven communities as well as the Alliance corridor to meet and network with local business people and community leaders in the Metroport region!\n\n\n\nWith members and visitors from all over the Metroport region and beyond\, you are sure to make connections to keep.\n\n	FREE member benefit\n	General Admission: $20\, payable at the door\n	Hear updates from the Chamber and community officials\n	Morning networking with light breakfast and coffee
X-ALT-DESC;FMTTYPE=text/html:<span style="font-family:arial\;"><span style="font-size:20px\;">Join us as we travel to each of our seven communities as well as the Alliance corridor to meet and network with local business people and community leaders in the Metroport region!<br />\n<br />\nWith members and visitors from all over the Metroport region and beyond\, you are sure to make connections to keep.</span></span>\n<ul>\n	<li><span style="font-family:arial\;"><span style="font-size:20px\;">FREE member benefit</span></span></li>\n	<li><span style="font-family:arial\;"><span style="font-size:20px\;">General Admission: $20\, payable at the door</span></span></li>\n	<li><span style="font-family:arial\;"><span style="font-size:20px\;">Hear updates from the Chamber and community officials</span></span></li>\n	<li><span style="font-family:arial\;"><span style="font-size:20px\;">Morning networking with light breakfast and coffee</span></span></li>\n</ul>\n
LOCATION:BPS Technology
UID:e.324.5824
SEQUENCE:3
DTSTAMP:20260420T101431Z
URL:https://chamber.metroportchamber.org/events/details/business-builder-networking-coffee-may-2022-5824
END:VEVENT

END:VCALENDAR
