BEGIN:VCALENDAR
VERSION:2.0
PRODID:-//ChamberMaster//Event Calendar 2.0//EN
METHOD:PUBLISH
X-PUBLISHED-TTL:P3D
REFRESH-INTERVAL:P3D
CALSCALE:GREGORIAN
BEGIN:VEVENT
DTSTART:20200609T163000Z
DTEND:20200609T180000Z
X-MICROSOFT-CDO-ALLDAYEVENT:FALSE
SUMMARY:ELM Young Professionals Lunch and Learn! June 2020
DESCRIPTION:Great leaders leave legacies. Ross Paterson has been blessed to work in and around amazing men and women for the past 30 years\; people who literally changed the world. The impact each of these leaders had is built on common cornerstones we will inspire you to implement. Before you can do great things with others\, you must learn to Lead Yourself First.
X-ALT-DESC;FMTTYPE=text/html:<span style="font-size:20px\;"><span style="font-family:arial\;"><span style="color:#141042\;">Great leaders leave legacies. Ross Paterson has been blessed to work in and around amazing men and women for the past 30 years\; people who literally changed the world. The impact each of these leaders had is built on common cornerstones we will inspire you to implement. Before you can do great things with others\, you must learn to Lead Yourself First. </span></span>&nbsp\;</span><br />\n&nbsp\;
LOCATION:Cinnamon Creek Ranch
UID:e.324.4999
SEQUENCE:3
DTSTAMP:20260420T172203Z
URL:https://chamber.metroportchamber.org/events/details/elm-young-professionals-lunch-and-learn-june-2020-4999
END:VEVENT

END:VCALENDAR
