BEGIN:VCALENDAR
VERSION:2.0
PRODID:-//ChamberMaster//Event Calendar 2.0//EN
METHOD:PUBLISH
X-PUBLISHED-TTL:P3D
REFRESH-INTERVAL:P3D
CALSCALE:GREGORIAN
BEGIN:VEVENT
DTSTART:20260407T210000Z
DTEND:20260407T233000Z
X-MICROSOFT-CDO-ALLDAYEVENT:FALSE
SUMMARY:Metroport Mixer - April 2026
DESCRIPTION:Metroport Mixer\n\n  April 7\n\n  4:00 PM - 6:30 PM\n\n  Roanoke Live | Roanoke\, Texas\n\nJoin us for a special Metroport Mixer as we celebrate one of Roanoke's newest entertainment destinations! We'll kick off the afternoon at 4:00 PM sharp with an official Ribbon Cutting to welcome Roanoke Live to the Metroport Chamber.\n\nCome experience this exciting new live music venue in the heart of Roanoke\, connect with fellow Chamber members\, and enjoy an evening of networking in a vibrant and energetic setting.\n\nBring your business cards\, invite a colleague\, and help us give Roanoke Live a warm Chamber welcome!\n\nWe look forward to seeing you there!\nFREE for Chamber Members and 1st-time visitors.\n\n\n\nComplimentary appetizers. Cash Bar
X-ALT-DESC;FMTTYPE=text/html:<p data-end="116" data-start="0"><span style="font-size:20px\;"><span style="font-family:arial\;"><strong data-end="19" data-start="0">Metroport Mixer</strong><br data-end="22" data-start="19" />\n&#128197\; <strong data-end="36" data-start="25">April 7</strong><br data-end="39" data-start="36" />\n&#9200\; <strong data-end="52" data-is-only-node="" data-start="41">4:00 PM - 6:30 PM</strong><br data-end="55" data-start="52" />\n&#128205\; <strong data-end="116" data-start="58"><span class="hover:entity-accent entity-underline inline cursor-pointer align-baseline"><span class="whitespace-normal">Roanoke Live</span></span> | Roanoke\, Texas</strong></span></span></p>\n\n<p data-end="355" data-start="118"><span style="font-size:20px\;"><span style="font-family:arial\;">Join us for a special Metroport Mixer as we celebrate one of Roanoke&rsquo\;s newest entertainment destinations! We&rsquo\;ll kick off the afternoon at <strong data-end="273" data-start="256">4:00 PM sharp</strong> with an official Ribbon Cutting to welcome Roanoke Live to the Metroport Chamber.</span></span></p>\n\n<p data-end="540" data-start="357"><span style="font-size:20px\;"><span style="font-family:arial\;">Come experience this exciting new live music venue in the heart of Roanoke\, connect with fellow Chamber members\, and enjoy an evening of networking in a vibrant and energetic setting.</span></span></p>\n\n<p data-end="642" data-start="542"><span style="font-size:20px\;"><span style="font-family:arial\;">Bring your business cards\, invite a colleague\, and help us give Roanoke Live a warm Chamber welcome!</span></span></p>\n\n<p data-end="680" data-is-last-node="" data-is-only-node="" data-start="644"><span style="font-size:20px\;"><span style="font-family:arial\;">We look forward to seeing you there!</span></span></p>\n<span style="font-size:20px\;"><span style="font-family:arial\;">FREE for Chamber Members and 1st-time visitors.<br />\n<br />\nComplimentary appetizers. Cash Bar</span></span>
LOCATION:
UID:e.324.7958
SEQUENCE:3
DTSTAMP:20260425T122547Z
URL:https://chamber.metroportchamber.org/events/details/metroport-mixer-april-2026-7958
END:VEVENT

END:VCALENDAR
