BEGIN:VCALENDAR
VERSION:2.0
PRODID:-//ChamberMaster//Event Calendar 2.0//EN
METHOD:PUBLISH
X-PUBLISHED-TTL:P3D
REFRESH-INTERVAL:P3D
CALSCALE:GREGORIAN
BEGIN:VEVENT
DTSTART:20230125T173000Z
DTEND:20230125T183000Z
X-MICROSOFT-CDO-ALLDAYEVENT:FALSE
SUMMARY:Ribbon Cutting! Planet Fitness
DESCRIPTION:Come welcome Planet Fitness to the Metroport Chamber! FREE Networking Event! Open to the business community.
X-ALT-DESC;FMTTYPE=text/html:<div><span style="color: rgb(51\, 51\, 51)\; font-family: sans-serif\, Arial\, Verdana\, &quot\;Trebuchet MS&quot\;\; font-size: 20px\;"><span style="font-family: arial\;">Come welcome Planet Fitness</span></span><span style="color: rgb(51\, 51\, 51)\; font-family: sans-serif\, Arial\, Verdana\, &quot\;Trebuchet MS&quot\;\; font-size: 20px\;"><span style="font-family: arial\;">&nbsp\;to the Metroport Chamber!&nbsp\;FREE Networking Event! Open to the business community.</span></span></div>\n
LOCATION:
UID:e.324.6253
SEQUENCE:3
DTSTAMP:20260419T172044Z
URL:https://chamber.metroportchamber.org/events/details/ribbon-cutting-planet-fitness-6253
END:VEVENT

END:VCALENDAR
