BEGIN:VCALENDAR
VERSION:2.0
PRODID:-//ChamberMaster//Event Calendar 2.0//EN
METHOD:PUBLISH
X-PUBLISHED-TTL:P3D
REFRESH-INTERVAL:P3D
CALSCALE:GREGORIAN
BEGIN:VEVENT
DTSTART:20240925T220000Z
DTEND:20240925T223000Z
X-MICROSOFT-CDO-ALLDAYEVENT:FALSE
SUMMARY:Ribbon Cutting! R3 Wound Care and Hyperbarics
DESCRIPTION:Come help us welcome R3 Wound Care and Hyperbaric to the Metroport Business community and celebrate their new location in Argyle.
X-ALT-DESC;FMTTYPE=text/html:<span style="font-family: arial\; font-size: 20px\;">Come help us welcome R3 Wound Care and Hyperbaric to the Metroport Business community and celebrate their new location in Argyle.</span>
LOCATION:
UID:e.324.7637
SEQUENCE:3
DTSTAMP:20260421T053114Z
URL:https://chamber.metroportchamber.org/events/details/ribbon-cutting-r3-wound-care-and-hyperbarics-7637
END:VEVENT

END:VCALENDAR
