BEGIN:VCALENDAR
VERSION:2.0
PRODID:-//ChamberMaster//Event Calendar 2.0//EN
METHOD:PUBLISH
X-PUBLISHED-TTL:P3D
REFRESH-INTERVAL:P3D
CALSCALE:GREGORIAN
BEGIN:VEVENT
DTSTART:20260407T210000Z
DTEND:20260407T213000Z
X-MICROSOFT-CDO-ALLDAYEVENT:FALSE
SUMMARY:Ribbon Cutting! Roanoke Live -RESCHEDULE DATE
DESCRIPTION:Ribbon Cutting Ceremony   Roanoke Live\n\n  April 7 (Rescheduled Date)\n\n  4:00 PM\n\n  Roanoke Live | Roanoke\, Texas\n\nPlease note: this is the rescheduled date for this event.\n\nJoin us as we officially welcome Roanoke Live to the Metroport Chamber with a celebratory Ribbon Cutting ceremony!\n\nBe there at 4:00 PM sharp as we commemorate this exciting new live music destination in the heart of Roanoke. Come meet the team\, tour the space\, and help us show our support for one of Roanoke's newest gathering spots.\n\n  Stay after the ceremony! The Metroport Mixer will begin immediately following the ribbon cutting\, giving you even more opportunity to connect\, network\, and experience this exciting new venue.\n\nBring your colleagues\, your camera\, and your Chamber spirit as we celebrate this great addition to our business community!
X-ALT-DESC;FMTTYPE=text/html:<p data-end="160" data-start="0"><span style="font-size:20px\;"><span style="font-family:arial\;"><strong data-end="42" data-start="0">Ribbon Cutting Ceremony &ndash\; Roanoke Live</strong><br data-end="45" data-start="42" />\n&#128197\; <strong data-end="59" data-start="48">April 7</strong> <em data-end="80" data-start="60">(Rescheduled Date)</em><br data-end="83" data-start="80" />\n&#9200\; <strong data-end="96" data-is-only-node="" data-start="85">4:00 PM</strong><br data-end="99" data-start="96" />\n&#128205\; <strong data-end="160" data-start="102"><span class="hover:entity-accent entity-underline inline cursor-pointer align-baseline"><span class="whitespace-normal">Roanoke Live</span></span> | Roanoke\, Texas</strong></span></span></p>\n\n<p data-end="223" data-start="162"><span style="font-size:20px\;"><span style="font-family:arial\;">Please note: this is the <strong data-end="207" data-start="187">rescheduled date</strong> for this event.</span></span></p>\n\n<p data-end="339" data-start="225"><span style="font-size:20px\;"><span style="font-family:arial\;">Join us as we officially welcome Roanoke Live to the Metroport Chamber with a celebratory Ribbon Cutting ceremony!</span></span></p>\n\n<p data-end="564" data-start="341"><span style="font-size:20px\;"><span style="font-family:arial\;">Be there at <strong data-end="370" data-start="353">4:00 PM sharp</strong> as we commemorate this exciting new live music destination in the heart of Roanoke. Come meet the team\, tour the space\, and help us show our support for one of Roanoke&rsquo\;s newest gathering spots.</span></span></p>\n\n<p data-end="764" data-start="566"><span style="font-size:20px\;"><span style="font-family:arial\;">&#127881\; <strong data-end="597" data-start="569">Stay after the ceremony!</strong> The Metroport Mixer will begin immediately following the ribbon cutting\, giving you even more opportunity to connect\, network\, and experience this exciting new venue.</span></span></p>\n\n<p data-end="888" data-is-last-node="" data-is-only-node="" data-start="766"><span style="font-size:20px\;"><span style="font-family:arial\;">Bring your colleagues\, your camera\, and your Chamber spirit as we celebrate this great addition to our business community!</span></span></p>\n
LOCATION:Downtown Roanoke\, across from Los Compadres.
UID:e.324.7953
SEQUENCE:3
DTSTAMP:20260425T122659Z
URL:https://chamber.metroportchamber.org/events/details/ribbon-cutting-roanoke-live-reschedule-date-7953
END:VEVENT

END:VCALENDAR
