BEGIN:VCALENDAR
VERSION:2.0
PRODID:-//ChamberMaster//Event Calendar 2.0//EN
METHOD:PUBLISH
X-PUBLISHED-TTL:P3D
REFRESH-INTERVAL:P3D
CALSCALE:GREGORIAN
BEGIN:VEVENT
DTSTART:20251209T140000Z
DTEND:20251209T183000Z
X-MICROSOFT-CDO-ALLDAYEVENT:FALSE
SUMMARY:Small Business Growth Workshop
DESCRIPTION:SBGW25: Thrive in Turbulent Times\n\nThis workshop is specifically designed for small business owners who want to explore all the options for building a thriving business when things are changes. \n\n\n\nWe'll share tips\, tricks& tools that will help you grow your business successfully for many years to come.  A hot breakfast is included!  We'll have amazing speakers\, networking\, door prizes\, and bonus materials provided.   \n\n\n\nNew this year: headshots will be available for you at a deep discount! \n\n\n\nPlease see www.smallbizgrows.com for registration details!
X-ALT-DESC;FMTTYPE=text/html:<span style="font-size:20px"><span style="font-family:arial">SBGW25: Thrive in Turbulent Times<br />\nThis workshop is specifically designed for small business owners who want to explore all the options for building a thriving business when things are changes.&nbsp\;<br />\n<br />\nWe&#39\;ll share tips\, tricks&amp\; tools that will help you grow your business successfully for many years to come.&nbsp\; A hot breakfast is included!&nbsp\; We&#39\;ll have amazing speakers\, networking\, door prizes\, and bonus materials provided.&nbsp\; &nbsp\;<br />\n<br />\nNew this year: headshots will be available for you at a deep discount!&nbsp\;<br />\n<br />\nPlease see www.smallbizgrows.com for registration details!</span></span>
LOCATION:Trophy Club Country Club 500 Trophy Club Drive Trophy Club\, TX 76262
UID:e.324.7807
SEQUENCE:3
DTSTAMP:20260421T123315Z
URL:https://chamber.metroportchamber.org/events/details/small-business-growth-workshop-7807
END:VEVENT

END:VCALENDAR
