BEGIN:VCALENDAR
VERSION:2.0
PRODID:-//ChamberMaster//Event Calendar 2.0//EN
METHOD:PUBLISH
X-PUBLISHED-TTL:P3D
REFRESH-INTERVAL:P3D
CALSCALE:GREGORIAN
BEGIN:VEVENT
DTSTART;VALUE=DATE:20290506
DTEND;VALUE=DATE:20290507
TRANSP:TRANSPARENT
X-MICROSOFT-CDO-ALLDAYEVENT:TRUE
SUMMARY:TCWC Mother's Day Art & Garden Festival
DESCRIPTION:ANNOUNCING THE 2022 TCWC ART & GARDEN FESTIVAL!\n\n\n\nThe Trophy Club Women's Club is excited to announce the second annual Mother's Day Art & Garden Festival to be held in the Trophy Club Town Center Ma6 6 - 8\, 2022\n\n\n\nVisit our website to see opportunities to support this exciting event that benefits local charities!\n\n\n\nwww.TCWCArtandGardenFestival.com
X-ALT-DESC;FMTTYPE=text/html:<span style="font-size:14px"><strong>ANNOUNCING THE 2022 TCWC ART &amp\; GARDEN FESTIVAL!</strong></span><br />\n<br />\nThe Trophy Club Women&#39\;s Club is excited to announce the second annual <strong>Mother&#39\;s Day Art &amp\; Garden Festival </strong>to be held in the Trophy Club Town Center Ma6 6 - 8\, 2022<br />\n<br />\nVisit our website to see opportunities to support this exciting event that benefits local charities!<br />\n<br />\n<strong>www.TCWCArtandGardenFestival.com</strong>
LOCATION:Trophy Club Town Center
UID:e.324.5708
SEQUENCE:3
DTSTAMP:20260421T022141Z
URL:https://chamber.metroportchamber.org/events/details/tcwc-mother-s-day-art-garden-festival-05-06-2029-5708
END:VEVENT

END:VCALENDAR
