BEGIN:VCALENDAR
VERSION:2.0
PRODID:-//ChamberMaster//Event Calendar 2.0//EN
METHOD:PUBLISH
X-PUBLISHED-TTL:P3D
REFRESH-INTERVAL:P3D
CALSCALE:GREGORIAN
BEGIN:VEVENT
DTSTART:20291010T170000Z
DTEND:20291011T010000Z
X-MICROSOFT-CDO-ALLDAYEVENT:FALSE
SUMMARY:Trophy Club Women’s Club Shop Til You Drop
DESCRIPTION:Come out and join us for our Trophy Club Women's Club (TCWC) Shop Til You Drop Shopping Extravaganza! We will have over 50 wonderful vendors offering a HUGE selection of items- from clothing\, to decor\, to crafts\, specialty foods\, pet products\, health & beauty and so much more! This is the perfect opportunity to get your holiday shopping done early! Admission is FREE! Open to the Public! The first 300 shoppers will receive a reusable shopping tote. Mark your calendars and come out and support this incredible event- All proceeds benefit local charities and scholarships!
X-ALT-DESC;FMTTYPE=text/html:Come out and join us for our Trophy Club Women&rsquo\;s Club (TCWC) Shop Til You Drop Shopping Extravaganza! We will have over 50 wonderful vendors offering a HUGE selection of items- from clothing\, to decor\, to crafts\, specialty foods\, pet products\, health &amp\; beauty and so much more! This is the perfect opportunity to get your holiday shopping done early! Admission is FREE! Open to the Public! The first 300 shoppers will receive a reusable shopping tote. Mark your calendars and come out and support this incredible event- All proceeds benefit local charities and scholarships!
LOCATION:Holiday Inn Trophy Club 725 Plaza Drive Trophy Club\, TX 76262
UID:e.324.7799
SEQUENCE:3
DTSTAMP:20260421T100137Z
URL:https://chamber.metroportchamber.org/events/details/trophy-club-women-s-club-shop-til-you-drop-10-10-2029-7799
END:VEVENT

END:VCALENDAR
